View In:
ArcGIS JavaScript
ArcGIS Online Map Viewer
ArcGIS Earth
ArcGIS Pro
Service Description:
Map Name: tomtkartan
Legend
All Layers and Tables
Dynamic Legend
Dynamic All Layers
Layers:
-
Tomtkartan (0)
-
Baskartan (1)
-
Texter (2)
-
Fornminne, symbol (18)
-
Ledningsanordning, symbol (19)
-
Pollare, symbol (20)
-
Linjesymboler (21)
-
Övriga marksymboler (22)
-
Anläggning, linje (23)
-
Byggnadstillbehör, linje (24)
-
Bebyggelse, linje (25)
-
Fornminne, linje (26)
-
Markanordning, linje (27)
-
Vattenkonstruktion, linje (28)
-
Hydrografianläggning, linje (29)
-
Markkantlinje (30)
-
Elledning, linje (31)
-
Vägkant, linje (32)
-
Väg, mittlinje (ekokartan) (33)
-
Spårtrafik, linje (34)
-
Terränglinje (35)
-
Övriga gränser, linje (36)
-
Höjdkurvor (37)
-
Byggnadstillbehör, yta (38)
-
Markanordning, yta (39)
-
Anläggning, yta (40)
-
Byggnad, yta (41)
-
Hydrografianläggning, yta (42)
-
Vattenytor, yta (43)
-
Fastighetsytor, yta (44)
-
Kommunkartan (45)
Description:
Copyright Text:
Spatial Reference:
3008
(3008)
VCSWkid(105702)
LatestVCSWkid(5613)
Single Fused Map Cache: true
Tile Info:
- Height: 256.0
- Width: 256.0
- DPI: 96.0
-
Levels of Detail: 20
-
Level ID: 0
[ Start Tile, End Tile ]
- Resolution: 156543.03392800014
- Scale: 5.91657527591555E8
-
Level ID: 1
[ Start Tile, End Tile ]
- Resolution: 78271.51696399994
- Scale: 2.95828763795777E8
-
Level ID: 2
[ Start Tile, End Tile ]
- Resolution: 39135.75848200009
- Scale: 1.47914381897889E8
-
Level ID: 3
[ Start Tile, End Tile ]
- Resolution: 19567.87924099992
- Scale: 7.3957190948944E7
-
Level ID: 4
[ Start Tile, End Tile ]
- Resolution: 9783.93962049996
- Scale: 3.6978595474472E7
-
Level ID: 5
[ Start Tile, End Tile ]
- Resolution: 4891.96981024998
- Scale: 1.8489297737236E7
- Format: PNG32
- Compression Quality: 0.0
- Origin: X: -5473200.0
Y: 1.3473525140105E7
- Spatial Reference: 3008
(3008)
VCSWkid(105702)
LatestVCSWkid(5613)
Storage Info:
- Storage Format: esriMapCacheStorageModeCompactV2
- Packet Size: 128
Initial Extent:
XMin: 105944.7349429407
YMin: 6327266.846230111
XMax: 282448.23702091834
YMax: 6528711.060558238
Spatial Reference: 3008
(3008)
VCSWkid(105702)
LatestVCSWkid(5613)
Full Extent:
XMin: 158163.7706000004
YMin: 6380231.7081
XMax: 218750.04260000028
YMax: 6453032.067
Spatial Reference: 3008
(3008)
VCSWkid(105702)
LatestVCSWkid(5613)
Units: esriMeters
Supported Image Format Types: PNG32,PNG24,PNG,JPG,DIB,TIFF,EMF,PS,PDF,GIF,SVG,SVGZ,BMP
Document Info:
Title: Map1
Author:
Comments:
Subject:
Category:
Keywords: kommunkarta,tomtkarta,färg
AntialiasingMode: Fast
TextAntialiasingMode: Force
Supports Dynamic Layers: true
Resampling: false
MaxRecordCount: 2000
MaxImageHeight: 4096
MaxImageWidth: 4096
Supported Query Formats: JSON, geoJSON, PBF
Supports Query Data Elements: true
Min Scale: 5.91657527591555E8
Max Scale: 564.248585
Max LOD: 19
Supports Datum Transformation: true
Child Resources:
Info
Dynamic Layer
Supported Operations:
Export Map
Identify
QueryLegends
QueryDomains
Find
Return Updates