View In:
ArcGIS JavaScript
ArcGIS Online Map Viewer
ArcGIS Earth
ArcGIS Pro
Service Description: Kommunkarta färg
Map Name: kommunkartan_farg
Legend
All Layers and Tables
Dynamic Legend
Dynamic All Layers
Layers:
Description:
Copyright Text: SBK Kartavd.
Spatial Reference:
3008
(3008)
VCSWkid(105702)
LatestVCSWkid(5613)
Single Fused Map Cache: true
Tile Info:
- Height: 256.0
- Width: 256.0
- DPI: 96.0
-
Levels of Detail: 20
-
Level ID: 0
[ Start Tile, End Tile ]
- Resolution: 156543.03392800014
- Scale: 5.91657527591555E8
-
Level ID: 1
[ Start Tile, End Tile ]
- Resolution: 78271.51696399994
- Scale: 2.95828763795777E8
-
Level ID: 2
[ Start Tile, End Tile ]
- Resolution: 39135.75848200009
- Scale: 1.47914381897889E8
-
Level ID: 3
[ Start Tile, End Tile ]
- Resolution: 19567.87924099992
- Scale: 7.3957190948944E7
-
Level ID: 4
[ Start Tile, End Tile ]
- Resolution: 9783.93962049996
- Scale: 3.6978595474472E7
-
Level ID: 5
[ Start Tile, End Tile ]
- Resolution: 4891.96981024998
- Scale: 1.8489297737236E7
- Format: PNG32
- Compression Quality: 0.0
- Origin: X: -5473200.0
Y: 1.3473525140105E7
- Spatial Reference: 3008
(3008)
VCSWkid(105702)
LatestVCSWkid(5613)
Storage Info:
- Storage Format: esriMapCacheStorageModeExploded
- Packet Size: 0
Initial Extent:
XMin: 179305.3141327189
YMin: 6402567.264870946
XMax: 208007.85846829246
YMax: 6422366.069376745
Spatial Reference: 3008
(3008)
VCSWkid(105702)
LatestVCSWkid(5613)
Full Extent:
XMin: 158163.7706000004
YMin: 6380231.7081
XMax: 218750.04260000028
YMax: 6453032.067
Spatial Reference: 3008
(3008)
VCSWkid(105702)
LatestVCSWkid(5613)
Units: esriMeters
Supported Image Format Types: PNG32,PNG24,PNG,JPG,DIB,TIFF,EMF,PS,PDF,GIF,SVG,SVGZ,BMP
Document Info:
Title: Map5
Author:
Comments:
Subject:
Category:
Keywords: Kommunkarta färg
AntialiasingMode: Fast
TextAntialiasingMode: Force
Supports Dynamic Layers: true
Resampling: false
MaxRecordCount: 1000
MaxImageHeight: 4096
MaxImageWidth: 4096
Supported Query Formats: JSON, geoJSON, PBF
Supports Query Data Elements: true
Min Scale: 5.91657527591555E8
Max Scale: 1128.497176
Max LOD: 19
Supports Datum Transformation: true
Child Resources:
Info
Dynamic Layer
Supported Operations:
Export Map
Identify
QueryLegends
QueryDomains
Find
Return Updates