View In:
ArcGIS JavaScript
ArcGIS Online Map Viewer
ArcGIS Earth
Service Description: bakgrundskartor/Historiska_kartor
Name: bakgrundskartor/Historiska_kartor
Description:
Single Fused Map Cache: false
Extent:
XMin: -182857.45257846103
YMin: 1.5487894415855408E-5
XMax: 197767.887421539
YMax: 6412595.600015488
Spatial Reference: 3008
(3008)
LatestVCSWkid(0)
Initial Extent:
XMin: -182857.45257846103
YMin: 1.5487894415855408E-5
XMax: 197767.887421539
YMax: 6412595.600015488
Spatial Reference: 3008
(3008)
LatestVCSWkid(0)
Full Extent:
XMin: -182857.45257846103
YMin: 1.5487894415855408E-5
XMax: 197767.887421539
YMax: 6412595.600015488
Spatial Reference: 3008
(3008)
LatestVCSWkid(0)
Pixel Size X: 0.005
Pixel Size Y: 0.005
Band Count: 3
Pixel Type: U8
RasterFunction Infos: {"rasterFunctionInfos": [{
"name": "None",
"description": "Funktionen används ej.",
"help": ""
}]}
Mensuration Capabilities: None
Inspection Capabilities:
Has Histograms: true
Has Colormap: false
Has Multi Dimensions : false
Rendering Rule:
Min Scale: 0
Max Scale: 0
Resampling: false
Copyright Text:
Service Data Type: esriImageServiceDataTypeRGB
Min Values: 13, 9, 1
Max Values: 255, 255, 255
Mean Values: 236.01463950323583, 222.7778344237355, 187.15438166801502
Standard Deviation Values: 39.01511434208105, 45.54600225769641, 54.106247197996126
Object ID Field: OBJECTID
Fields:
-
OBJECTID
(
type: esriFieldTypeOID, alias: OBJECTID
)
-
Map_Name
(
type: esriFieldTypeString, alias: Name, length: 200
)
-
MinPS
(
type: esriFieldTypeDouble, alias: MinPS
)
-
MaxPS
(
type: esriFieldTypeDouble, alias: MaxPS
)
-
LowPS
(
type: esriFieldTypeDouble, alias: LowPS
)
-
HighPS
(
type: esriFieldTypeDouble, alias: HighPS
)
-
Category
(
type: esriFieldTypeInteger, alias: Category
, Coded Values:
[0: Unknown]
, [1: Primary]
, [2: Overview]
, ...5 more...
)
-
Tag
(
type: esriFieldTypeString, alias: Tag, length: 100
)
-
GroupName
(
type: esriFieldTypeString, alias: GroupName, length: 100
)
-
ProductName
(
type: esriFieldTypeString, alias: ProductName, length: 100
)
-
CenterX
(
type: esriFieldTypeDouble, alias: CenterX
)
-
CenterY
(
type: esriFieldTypeDouble, alias: CenterY
)
-
ZOrder
(
type: esriFieldTypeInteger, alias: ZOrder
)
-
Shape
(
type: esriFieldTypeGeometry, alias: Shape
)
-
State
(
type: esriFieldTypeString, alias: State, length: 255
)
-
Imprint_Year
(
type: esriFieldTypeSmallInteger, alias: Imprint_Year
)
-
Map_Scale
(
type: esriFieldTypeInteger, alias: Map_Scale
)
-
DownloadG
(
type: esriFieldTypeString, alias: DownloadG, length: 255
)
-
DateCurrent
(
type: esriFieldTypeSmallInteger, alias: DateCurrent
)
-
Shape.STArea()
(
type: esriFieldTypeDouble, alias: Shape.STArea()
)
-
Shape.STLength()
(
type: esriFieldTypeDouble, alias: Shape.STLength()
)
Default Mosaic Method: Northwest
Allowed Mosaic Methods: NorthWest,Center,LockRaster,ByAttribute,Nadir,Viewpoint,Seamline,None
SortField:
SortValue: null
Mosaic Operator: First
Default Compression Quality: 75
Default Resampling Method: Bilinear
Max Record Count: 1000
Max Image Height: 4100
Max Image Width: 15000
Max Download Image Count: 20
Max Mosaic Image Count: 20
Allow Raster Function: true
Allow Copy: true
Allow Analysis: true
Allow Compute TiePoints: false
Supports Statistics: true
Supports Advanced Queries: true
Use StandardizedQueries: true
Raster Type Infos:
Name: Raster Dataset
Description: Supports all ArcGIS Raster Datasets
Help:
Has Raster Attribute Table: false
Edit Fields Info: null
Ownership Based AccessControl For Rasters: null
Child Resources:
Info
Histograms
Statistics
Key Properties
Legend
Raster Function Infos
Supported Operations:
Export Image
Query
Identify
Compute Histograms
Compute Statistics Histograms
Get Samples
Compute Class Statistics
Query GPS Info
Find Images
Image to Map
Map to Image
Measure from Image
Image to Map Multiray
Query Boundary
Compute Pixel Location
Compute Angles
Validate
Project