View In:
ArcGIS JavaScript
ArcGIS Online Map Viewer
ArcGIS Earth
Service Description: Hillshade över Jönköpings kommun, 2m uppllösning
Name: Hillshade_Jkpg_2m
Description: Hillshade över Jönköpings kommun, 2m uppllösning
Single Fused Map Cache: false
Extent:
XMin: 159815.999999995
YMin: 6380273.999999999
XMax: 218677.999999995
YMax: 6452929.999999999
Spatial Reference: 0
(0)
LatestVCSWkid(0)
Initial Extent:
XMin: 159815.999999995
YMin: 6380273.999999999
XMax: 218677.999999995
YMax: 6452929.999999999
Spatial Reference: 0
(0)
LatestVCSWkid(0)
Full Extent:
XMin: 159815.999999995
YMin: 6380273.999999999
XMax: 218677.999999995
YMax: 6452929.999999999
Spatial Reference: 0
(0)
LatestVCSWkid(0)
Pixel Size X: 2.0
Pixel Size Y: 2.0
Band Count: 1
Pixel Type: U8
RasterFunction Infos: {"rasterFunctionInfos": [{
"name": "None",
"description": "",
"help": ""
}]}
Mensuration Capabilities: Basic
Inspection Capabilities:
Has Histograms: true
Has Colormap: false
Has Multi Dimensions : false
Rendering Rule:
Min Scale: 0
Max Scale: 0
Copyright Text:
Service Data Type: esriImageServiceDataTypeGeneric
Min Values: 0
Max Values: 254
Mean Values: 178.8833145347846
Standard Deviation Values: 15.95501154570732
Object ID Field:
Fields:
None
Default Mosaic Method: Center
Allowed Mosaic Methods:
SortField:
SortValue: null
Mosaic Operator: First
Default Compression Quality: 75
Default Resampling Method: Bilinear
Max Record Count: null
Max Image Height: 4100
Max Image Width: 15000
Max Download Image Count: null
Max Mosaic Image Count: null
Allow Raster Function: true
Allow Copy: true
Allow Analysis: true
Allow Compute TiePoints: false
Supports Statistics: false
Supports Advanced Queries: false
Use StandardizedQueries: true
Raster Type Infos:
Name: Raster Dataset
Description: Supports all ArcGIS Raster Datasets
Help:
Has Raster Attribute Table: true
Edit Fields Info: null
Ownership Based AccessControl For Rasters: null
Child Resources:
Info
Raster Attribute Table
Histograms
Statistics
Key Properties
Legend
Raster Function Infos
Supported Operations:
Export Image
Identify
Compute Histograms
Compute Statistics Histograms
Get Samples
Compute Class Statistics
Query Boundary
Compute Pixel Location
Compute Angles
Validate
Project