<?xml version="1.0" encoding="UTF-8" standalone="no"?>
<metadata xml:lang="sv">
<Esri>
<CreaDate>20210202</CreaDate>
<CreaTime>16201800</CreaTime>
<ArcGISFormat>1.0</ArcGISFormat>
<SyncOnce>FALSE</SyncOnce>
<DataProperties>
<lineage>
<Process Date="20210202" Name="" Time="162018" ToolSource="c:\program files\arcgis\pro\Resources\ArcToolbox\toolboxes\Data Management Tools.tbx\CreateMosaicDataset" export="">CreateMosaicDataset C:\Users\naskl\AppData\Roaming\ESRI\ArcGISPro\Favorites\orto@sde-0397.sde Skyfallsmodellering PROJCS['SWEREF99_13_30',GEOGCS['GCS_SWEREF99',DATUM['D_SWEREF99',SPHEROID['GRS_1980',6378137.0,298.257222101]],PRIMEM['Greenwich',0.0],UNIT['Degree',0.0174532925199433]],PROJECTION['Transverse_Mercator'],PARAMETER['False_Easting',150000.0],PARAMETER['False_Northing',0.0],PARAMETER['Central_Meridian',13.5],PARAMETER['Scale_Factor',1.0],PARAMETER['Latitude_Of_Origin',0.0],UNIT['Meter',1.0]] # "32-bit floating point" None #</Process>
<Process Date="20210202" Time="163748" ToolSource="c:\program files\arcgis\pro\Resources\ArcToolbox\toolboxes\Data Management Tools.tbx\AddRastersToMosaicDataset">AddRastersToMosaicDataset C:\Users\naskl\AppData\Roaming\Esri\ArcGISPro\Favorites\orto@sde-0397.sde\sde_orto.SDE.Skyfallsmodellering "Raster Dataset" 'Z:\KartochBild\LST\Clarity Skyfallsmodellering 2020\Jkp_CDS_maxFlux_aux\Jkp_CDS_maxFlux.tiff';'Z:\KartochBild\LST\Clarity Skyfallsmodellering 2020\Jkp_CDS_maxH_aux\Jkp_CDS_maxH.tiff';'Z:\KartochBild\LST\Clarity Skyfallsmodellering 2020\Jkp_CDS_waterdepth_6h\Jkp_CDS_waterdepth_6h.tiff' UPDATE_CELL_SIZES UPDATE_BOUNDARY NO_OVERVIEWS # 0 1500 "PROJCS['SWEREF99_TM',GEOGCS['GCS_SWEREF99',DATUM['D_SWEREF99',SPHEROID['GRS_1980',6378137.0,298.257222101]],PRIMEM['Greenwich',0.0],UNIT['Degree',0.0174532925199433]],PROJECTION['Transverse_Mercator'],PARAMETER['False_Easting',500000.0],PARAMETER['False_Northing',0.0],PARAMETER['Central_Meridian',15.0],PARAMETER['Scale_Factor',0.9996],PARAMETER['Latitude_Of_Origin',0.0],UNIT['Meter',1.0]];-5120900 -9998100 10000;-100000 10000;-100000 10000;0.001;0.001;0.001;IsHighPrecision" # SUBFOLDERS "Allow duplicates" NO_PYRAMIDS NO_STATISTICS NO_THUMBNAILS # NO_FORCE_SPATIAL_REFERENCE NO_STATISTICS # NO_PIXEL_CACHE C:\Users\naskl\AppData\Local\ESRI\rasterproxies\sde_orto.SDE.Skyfallsmodellering</Process>
<Process Date="20210202" Time="204535" ToolSource="c:\program files\arcgis\pro\Resources\ArcToolbox\toolboxes\Data Management Tools.tbx\AddRastersToMosaicDataset">AddRastersToMosaicDataset C:\Users\naskl\AppData\Roaming\Esri\ArcGISPro\Favorites\orto@sde-0397.sde\sde_orto.SDE.Skyfallsmodellering "Raster Dataset" '\\85.188.85.140\sbk\KartochBild\LST\Clarity Skyfallsmodellering 2020\Jkp_CDS_maxFlux_aux\Jkp_CDS_maxFlux.tiff';'\\85.188.85.140\sbk\KartochBild\LST\Clarity Skyfallsmodellering 2020\Jkp_CDS_maxH_aux\Jkp_CDS_maxH.tiff';'\\85.188.85.140\sbk\KartochBild\LST\Clarity Skyfallsmodellering 2020\Jkp_CDS_waterdepth_6h\Jkp_CDS_waterdepth_6h.tiff' NO_CELL_SIZES UPDATE_BOUNDARY NO_OVERVIEWS # 0 1500 "PROJCS['SWEREF99_TM',GEOGCS['GCS_SWEREF99',DATUM['D_SWEREF99',SPHEROID['GRS_1980',6378137.0,298.257222101]],PRIMEM['Greenwich',0.0],UNIT['Degree',0.0174532925199433]],PROJECTION['Transverse_Mercator'],PARAMETER['False_Easting',500000.0],PARAMETER['False_Northing',0.0],PARAMETER['Central_Meridian',15.0],PARAMETER['Scale_Factor',0.9996],PARAMETER['Latitude_Of_Origin',0.0],UNIT['Meter',1.0]],VERTCS['RH2000',VDATUM['Rikets_Hojdsystem_2000'],PARAMETER['Vertical_Shift',0.0],PARAMETER['Direction',1.0],UNIT['Meter',1.0]];-5120900 -9998100 10000;-100000 10000;-100000 10000;0.001;0.001;0.001;IsHighPrecision" # SUBFOLDERS "Allow duplicates" NO_PYRAMIDS NO_STATISTICS NO_THUMBNAILS # NO_FORCE_SPATIAL_REFERENCE NO_STATISTICS # NO_PIXEL_CACHE C:\Users\naskl\AppData\Local\ESRI\rasterproxies\sde_orto.SDE.Skyfallsmodellering</Process>
<Process Date="20210215" Time="144534" ToolSource="c:\program files\arcgis\pro\Resources\ArcToolbox\toolboxes\Data Management Tools.tbx\AddRastersToMosaicDataset">AddRastersToMosaicDataset C:\Users\naskl\AppData\Roaming\Esri\ArcGISPro\Favorites\orto@sde-0397.sde\sde_orto.SDE.Skyfallsmodellering "Raster Dataset" '\\cs-na01-cifs01.jonkoping.se\SBK\KartochBild\LST\Clarity Skyfallsmodellering 2020\SWEREF_1330\Jkp_CDS_maxFlux_1330.tif';'\\cs-na01-cifs01.jonkoping.se\SBK\KartochBild\LST\Clarity Skyfallsmodellering 2020\SWEREF_1330\Jkp_CDS_maxH_1330.tif';'\\cs-na01-cifs01.jonkoping.se\SBK\KartochBild\LST\Clarity Skyfallsmodellering 2020\SWEREF_1330\Jkp_CDS_waterrdepth_6h_1330.tif' UPDATE_CELL_SIZES UPDATE_BOUNDARY NO_OVERVIEWS # 0 1500 "PROJCS['SWEREF99_13_30',GEOGCS['GCS_SWEREF99',DATUM['D_SWEREF99',SPHEROID['GRS_1980',6378137.0,298.257222101]],PRIMEM['Greenwich',0.0],UNIT['Degree',0.0174532925199433]],PROJECTION['Transverse_Mercator'],PARAMETER['False_Easting',150000.0],PARAMETER['False_Northing',0.0],PARAMETER['Central_Meridian',13.5],PARAMETER['Scale_Factor',1.0],PARAMETER['Latitude_Of_Origin',0.0],UNIT['Meter',1.0]];-5473200 -10002100 10000;-100000 10000;-100000 10000;0.001;0.001;0.001;IsHighPrecision" # NO_SUBFOLDERS "Allow duplicates" NO_PYRAMIDS NO_STATISTICS NO_THUMBNAILS # NO_FORCE_SPATIAL_REFERENCE NO_STATISTICS # NO_PIXEL_CACHE C:\Users\naskl\AppData\Local\ESRI\rasterproxies\sde_orto.SDE.Skyfallsmodellering</Process>
</lineage>
<itemProps>
<itemName Sync="TRUE">sde_orto.SDE.Skyfallsmodellering</itemName>
<itemLocation>
<linkage Sync="TRUE">Server=jkp-srv0397; Service=sde:sqlserver:jkp-srv0397; Database=sde_orto; User=gng; Version=sde.DEFAULT</linkage>
<protocol Sync="TRUE">ArcSDE Connection</protocol>
</itemLocation>
<nativeExtBox>
<westBL Sync="TRUE">184857.795426</westBL>
<eastBL Sync="TRUE">193947.395736</eastBL>
<southBL Sync="TRUE">6399599.931164</southBL>
<northBL Sync="TRUE">6408016.909228</northBL>
<exTypeCode Sync="TRUE">1</exTypeCode>
</nativeExtBox>
</itemProps>
<coordRef>
<type Sync="TRUE">Projected</type>
<geogcsn Sync="TRUE">GCS_SWEREF99</geogcsn>
<csUnits Sync="TRUE">Linear Unit: Meter (1.000000)</csUnits>
<projcsn Sync="TRUE">SWEREF99_13_30</projcsn>
<peXml Sync="TRUE">&lt;ProjectedCoordinateSystem xsi:type='typens:ProjectedCoordinateSystem' xmlns:xsi='http://www.w3.org/2001/XMLSchema-instance' xmlns:xs='http://www.w3.org/2001/XMLSchema' xmlns:typens='http://www.esri.com/schemas/ArcGIS/10.8'&gt;&lt;WKT&gt;PROJCS[&amp;quot;SWEREF99_13_30&amp;quot;,GEOGCS[&amp;quot;GCS_SWEREF99&amp;quot;,DATUM[&amp;quot;D_SWEREF99&amp;quot;,SPHEROID[&amp;quot;GRS_1980&amp;quot;,6378137.0,298.257222101]],PRIMEM[&amp;quot;Greenwich&amp;quot;,0.0],UNIT[&amp;quot;Degree&amp;quot;,0.0174532925199433]],PROJECTION[&amp;quot;Transverse_Mercator&amp;quot;],PARAMETER[&amp;quot;False_Easting&amp;quot;,150000.0],PARAMETER[&amp;quot;False_Northing&amp;quot;,0.0],PARAMETER[&amp;quot;Central_Meridian&amp;quot;,13.5],PARAMETER[&amp;quot;Scale_Factor&amp;quot;,1.0],PARAMETER[&amp;quot;Latitude_Of_Origin&amp;quot;,0.0],UNIT[&amp;quot;Meter&amp;quot;,1.0],AUTHORITY[&amp;quot;EPSG&amp;quot;,3008]]&lt;/WKT&gt;&lt;XOrigin&gt;-5473200&lt;/XOrigin&gt;&lt;YOrigin&gt;-10002100&lt;/YOrigin&gt;&lt;XYScale&gt;450265407.00157917&lt;/XYScale&gt;&lt;ZOrigin&gt;-100000&lt;/ZOrigin&gt;&lt;ZScale&gt;10000&lt;/ZScale&gt;&lt;MOrigin&gt;-100000&lt;/MOrigin&gt;&lt;MScale&gt;10000&lt;/MScale&gt;&lt;XYTolerance&gt;0.001&lt;/XYTolerance&gt;&lt;ZTolerance&gt;0.001&lt;/ZTolerance&gt;&lt;MTolerance&gt;0.001&lt;/MTolerance&gt;&lt;HighPrecision&gt;true&lt;/HighPrecision&gt;&lt;WKID&gt;3008&lt;/WKID&gt;&lt;LatestWKID&gt;3008&lt;/LatestWKID&gt;&lt;/ProjectedCoordinateSystem&gt;</peXml>
</coordRef>
<RasterProperties>
<General>
<PixelDepth Sync="TRUE">32</PixelDepth>
<HasColormap Sync="TRUE">FALSE</HasColormap>
<CompressionType Sync="TRUE">None</CompressionType>
<NumBands Sync="TRUE">1</NumBands>
<Format Sync="TRUE">AMD</Format>
<HasPyramids Sync="TRUE">TRUE</HasPyramids>
<SourceType Sync="TRUE">continuous</SourceType>
<PixelType Sync="TRUE">floating point</PixelType>
<NoDataValue Sync="TRUE"/>
</General>
<Properties>
<MaxImageHeight Sync="TRUE">4100</MaxImageHeight>
<MaxImageWidth Sync="TRUE">15000</MaxImageWidth>
<MaxRecordCount Sync="TRUE">1000</MaxRecordCount>
<MaxDownloadImageCount Sync="TRUE">20</MaxDownloadImageCount>
<MaxDownloadSizeLimit Sync="TRUE">2048</MaxDownloadSizeLimit>
<MaxMosaicImageCount Sync="TRUE">20</MaxMosaicImageCount>
<DefaultCompressionQuality Sync="TRUE">75</DefaultCompressionQuality>
<DefaultCompressionTolerance Sync="TRUE">0.01</DefaultCompressionTolerance>
<BlendWidth Sync="TRUE">10</BlendWidth>
<ViewpointSpacingX Sync="TRUE">600</ViewpointSpacingX>
<ViewpointSpacingY Sync="TRUE">300</ViewpointSpacingY>
<AllowedItemMetadata Sync="TRUE">Basic</AllowedItemMetadata>
<DefaultResamplingMethod Sync="TRUE">1</DefaultResamplingMethod>
<AllowedMosaicMethods Sync="TRUE">NorthWest,Center,LockRaster,ByAttribute,Nadir,Viewpoint,Seamline,None</AllowedMosaicMethods>
<AllowedCompressions Sync="TRUE">None,JPEG,LZ77,LERC</AllowedCompressions>
<AllowedMensurationCapabilities Sync="TRUE">Basic</AllowedMensurationCapabilities>
<AvailableMensurationCapabilities Sync="TRUE">None,Basic,Base-Top Height,Top-Top Shadow Height,Base-Top Shadow Height,3D</AvailableMensurationCapabilities>
<ClipToBoundary Sync="TRUE">-1</ClipToBoundary>
<FootprintMayContainNoData Sync="TRUE">-1</FootprintMayContainNoData>
<CellSizeTolerance Sync="TRUE">0.8</CellSizeTolerance>
<MinimumPixelContribution Sync="TRUE">1</MinimumPixelContribution>
<AvailableMosaicMethods Sync="TRUE">NorthWest,Center,LockRaster,ByAttribute,Nadir,Viewpoint,Seamline,None</AvailableMosaicMethods>
<AvailableCompressionMethods Sync="TRUE">None,JPEG,LZ77,LERC</AvailableCompressionMethods>
<AvailableItemMetadataLevels Sync="TRUE">None,Basic,Full</AvailableItemMetadataLevels>
<BandDefinitionKeyword Sync="TRUE">NONE</BandDefinitionKeyword>
<_docversion_ Sync="TRUE">10</_docversion_>
<AllowedFields Sync="TRUE">Name,MinPS,MaxPS,LowPS,HighPS,Tag,GroupName,ProductName,CenterX,CenterY,ZOrder,Shape.STArea(),Shape.STLength()</AllowedFields>
<MaxCellSize Sync="TRUE">20.44444514</MaxCellSize>
<LowCellSize Sync="TRUE">2.044444514</LowCellSize>
<HighCellSize Sync="TRUE">2.044444514</HighCellSize>
<PixelCacheLocation Sync="TRUE">C:\Users\naskl\AppData\Local\ESRI\rasterproxies\sde_orto.SDE.Skyfallsmodellering</PixelCacheLocation>
<TimeStamp.RemoveItems Sync="TRUE">44242.5671545255</TimeStamp.RemoveItems>
<TimeStamp.UpdateExtent Sync="TRUE">44242.5730483218</TimeStamp.UpdateExtent>
<ApplyColorCorrection Sync="TRUE">0</ApplyColorCorrection>
</Properties>
<Functions Sync="TRUE">
<Function Description="Performs on-the-fly mosaic on a raster catalog." Name="Mosaic Function"/>
</Functions>
</RasterProperties>
</DataProperties>
<scaleRange>
<minScale>150000000</minScale>
<maxScale>5000</maxScale>
</scaleRange>
<ArcGISProfile>ItemDescription</ArcGISProfile>
<SyncDate>20231031</SyncDate>
<SyncTime>08042000</SyncTime>
<ModDate>20231031</ModDate>
<ModTime>08042000</ModTime>
</Esri>
<dataIdInfo>
<idPurp>Skyfallsmodellering utförd av WSP för EU-projektet Clarity, 2020.</idPurp>
<idAbs>&lt;DIV STYLE="text-align:Left;"&gt;&lt;DIV&gt;&lt;DIV&gt;&lt;P&gt;&lt;SPAN&gt;Inom EU projektet CLARITY har WSP tagit fram en skyfallsmodellering över Jönköping. Syftet med modelleringen är att visa vilka områden som riskerar att översvämmas vid ett 100-årsregn i ett framtida klimat. &lt;/SPAN&gt;&lt;/P&gt;&lt;/DIV&gt;&lt;/DIV&gt;&lt;/DIV&gt;</idAbs>
<idCitation>
<resTitle>sde_orto_SDE_Skyfallsmodellering</resTitle>
<presForm>
<PresFormCd Sync="TRUE" value="005"/>
</presForm>
</idCitation>
<searchKeys>
<keyword>skyfall</keyword>
<keyword>clarity</keyword>
<keyword>2020</keyword>
</searchKeys>
<envirDesc Sync="TRUE"> Version 6.2 (Build 9200) ; Esri ArcGIS 10.9.1.28388</envirDesc>
<dataLang>
<languageCode Sync="TRUE" value="swe"/>
<countryCode Sync="TRUE" value="SWE"/>
</dataLang>
<spatRpType>
<SpatRepTypCd Sync="TRUE" value="002"/>
</spatRpType>
<dataExt>
<geoEle>
<GeoBndBox esriExtentType="search">
<exTypeCode Sync="TRUE">1</exTypeCode>
<westBL Sync="TRUE">14.084834</westBL>
<eastBL Sync="TRUE">14.238864</eastBL>
<northBL Sync="TRUE">57.789751</northBL>
<southBL Sync="TRUE">57.713385</southBL>
</GeoBndBox>
</geoEle>
</dataExt>
<idCredit/>
<resConst>
<Consts>
<useLimit/>
</Consts>
</resConst>
</dataIdInfo>
<mdHrLv>
<ScopeCd value="005"/>
</mdHrLv>
<mdDateSt Sync="TRUE">20231031</mdDateSt>
<mdLang>
<languageCode Sync="TRUE" value="swe"/>
<countryCode Sync="TRUE" value="SWE"/>
</mdLang>
<refSysInfo>
<RefSystem>
<refSysID>
<identCode Sync="TRUE" code="3008"/>
<idCodeSpace Sync="TRUE">EPSG</idCodeSpace>
<idVersion Sync="TRUE">6.7(9.0.0)</idVersion>
</refSysID>
</RefSystem>
</refSysInfo>
<spatRepInfo>
<Georect>
<cellGeo>
<CellGeoCd Sync="TRUE" value="002"/>
</cellGeo>
<numDims Sync="TRUE">2</numDims>
<tranParaAv Sync="TRUE">1</tranParaAv>
<chkPtAv Sync="TRUE">0</chkPtAv>
<cornerPts>
<pos Sync="TRUE">184857.795426 6399599.931164</pos>
</cornerPts>
<cornerPts>
<pos Sync="TRUE">184857.795426 6408016.909228</pos>
</cornerPts>
<cornerPts>
<pos Sync="TRUE">193947.395736 6408016.909228</pos>
</cornerPts>
<cornerPts>
<pos Sync="TRUE">193947.395736 6399599.931164</pos>
</cornerPts>
<centerPt>
<pos Sync="TRUE">189402.595581 6403808.420196</pos>
</centerPt>
<axisDimension type="002">
<dimSize Sync="TRUE">4446</dimSize>
<dimResol>
<value Sync="TRUE" uom="m">2.044445</value>
</dimResol>
</axisDimension>
<axisDimension type="001">
<dimSize Sync="TRUE">4117</dimSize>
<dimResol>
<value Sync="TRUE" uom="m">2.044445</value>
</dimResol>
</axisDimension>
<ptInPixel>
<PixOrientCd Sync="TRUE" value="001"/>
</ptInPixel>
</Georect>
</spatRepInfo>
<contInfo>
<ImgDesc>
<contentTyp>
<ContentTypCd Sync="TRUE" value="001"/>
</contentTyp>
<covDim>
<Band>
<dimDescrp Sync="TRUE">Band_1</dimDescrp>
<bitsPerVal Sync="TRUE">32</bitsPerVal>
<valUnit>
<UOM type="length"/>
</valUnit>
<maxVal Sync="TRUE">3.005900</maxVal>
<minVal Sync="TRUE">0.000000</minVal>
</Band>
</covDim>
</ImgDesc>
</contInfo>
</metadata>
